BEGIN:VCALENDAR
VERSION:2.0
PRODID:-//Churchfield Community Association - ECPv6.15.11//NONSGML v1.0//EN
CALSCALE:GREGORIAN
METHOD:PUBLISH
X-ORIGINAL-URL:https://www.churchfield.org
X-WR-CALDESC:Events for Churchfield Community Association
REFRESH-INTERVAL;VALUE=DURATION:PT1H
X-Robots-Tag:noindex
X-PUBLISHED-TTL:PT1H
BEGIN:VTIMEZONE
TZID:Europe/London
BEGIN:DAYLIGHT
TZOFFSETFROM:+0000
TZOFFSETTO:+0100
TZNAME:BST
DTSTART:20200329T010000
END:DAYLIGHT
BEGIN:STANDARD
TZOFFSETFROM:+0100
TZOFFSETTO:+0000
TZNAME:GMT
DTSTART:20201025T010000
END:STANDARD
BEGIN:DAYLIGHT
TZOFFSETFROM:+0000
TZOFFSETTO:+0100
TZNAME:BST
DTSTART:20210328T010000
END:DAYLIGHT
BEGIN:STANDARD
TZOFFSETFROM:+0100
TZOFFSETTO:+0000
TZNAME:GMT
DTSTART:20211031T010000
END:STANDARD
BEGIN:DAYLIGHT
TZOFFSETFROM:+0000
TZOFFSETTO:+0100
TZNAME:BST
DTSTART:20220327T010000
END:DAYLIGHT
BEGIN:STANDARD
TZOFFSETFROM:+0100
TZOFFSETTO:+0000
TZNAME:GMT
DTSTART:20221030T010000
END:STANDARD
BEGIN:DAYLIGHT
TZOFFSETFROM:+0000
TZOFFSETTO:+0100
TZNAME:BST
DTSTART:20230326T010000
END:DAYLIGHT
BEGIN:STANDARD
TZOFFSETFROM:+0100
TZOFFSETTO:+0000
TZNAME:GMT
DTSTART:20231029T010000
END:STANDARD
BEGIN:DAYLIGHT
TZOFFSETFROM:+0000
TZOFFSETTO:+0100
TZNAME:BST
DTSTART:20240331T010000
END:DAYLIGHT
BEGIN:STANDARD
TZOFFSETFROM:+0100
TZOFFSETTO:+0000
TZNAME:GMT
DTSTART:20241027T010000
END:STANDARD
END:VTIMEZONE
BEGIN:VEVENT
DTSTART;TZID=Europe/London:20230705T183000
DTEND;TZID=Europe/London:20230705T213000
DTSTAMP:20260422T122927
CREATED:20230617T075533Z
LAST-MODIFIED:20230617T075533Z
UID:622-1688581800-1688592600@www.churchfield.org
SUMMARY:CCA Quiz - July 2023
DESCRIPTION:See the email from CCA mailing list for details of how to register. \nThis is being held at the usual location in central Acton and we will have tables on the ground floor for those who have difficulty with the stairs to the lower ground floor where most tables will be set.
URL:https://www.churchfield.org/event/cca-quiz-july-2023/
END:VEVENT
BEGIN:VEVENT
DTSTART;TZID=Europe/London:20230702T160000
DTEND;TZID=Europe/London:20230702T190000
DTSTAMP:20260422T122927
CREATED:20230504T082715Z
LAST-MODIFIED:20230504T082715Z
UID:615-1688313600-1688324400@www.churchfield.org
SUMMARY:CCA Summer Party 2023
DESCRIPTION:A great way to get to know more people from the area in a stunning local garden. Food and drink provided. \nSmall charge plus donations to our host’s charity. \nBooking essential by emailing bayscolledge@talktalk.net
URL:https://www.churchfield.org/event/cca-summer-party-2023/
END:VEVENT
BEGIN:VEVENT
DTSTART;TZID=Europe/London:20230701T110000
DTEND;TZID=Europe/London:20230701T140000
DTSTAMP:20260422T122927
CREATED:20230504T083424Z
LAST-MODIFIED:20230504T083424Z
UID:619-1688209200-1688220000@www.churchfield.org
SUMMARY:CCA Bookstall - July 2023
DESCRIPTION:CCA Bookstall at Acton’s Reduce & Recycle Market\nby Morrisons. \nDrop off or take away books. \nStall volunteers wanted
URL:https://www.churchfield.org/event/cca-bookstall-july-2023/
END:VEVENT
BEGIN:VEVENT
DTSTART;TZID=Europe/London:20230603T110000
DTEND;TZID=Europe/London:20230603T140000
DTSTAMP:20260422T122927
CREATED:20230504T083313Z
LAST-MODIFIED:20230504T083313Z
UID:617-1685790000-1685800800@www.churchfield.org
SUMMARY:CCA Bookstall - June 2023
DESCRIPTION:CCA Bookstall at Acton’s Reduce & Recycle Market\nby Morrisons. \nDrop off or take away books.  \nStall volunteers wanted
URL:https://www.churchfield.org/event/cca-bookstall-june-2023/
END:VEVENT
BEGIN:VEVENT
DTSTART;TZID=Europe/London:20230412T183000
DTEND;TZID=Europe/London:20230412T213000
DTSTAMP:20260422T122927
CREATED:20230322T050126Z
LAST-MODIFIED:20230322T050126Z
UID:612-1681324200-1681335000@www.churchfield.org
SUMMARY:CCA Quiz - April 2023
DESCRIPTION:See the email from CCA mailing list for details of how to register. \nThis is being held at the usual location in central Acton and we will have tables on the ground floor for those who have difficulty with the stairs to the lower ground floor where most tables will be set.
URL:https://www.churchfield.org/event/cca-quiz-april-2023/
END:VEVENT
BEGIN:VEVENT
DTSTART;TZID=Europe/London:20230118T193000
DTEND;TZID=Europe/London:20230118T203000
DTSTAMP:20260422T122927
CREATED:20230104T185320Z
LAST-MODIFIED:20230104T185740Z
UID:606-1674070200-1674073800@www.churchfield.org
SUMMARY:AGM 2022
DESCRIPTION:Will include guest speakers as well as the formalities required for an AGM.\nSee email to CCA mailing list for details of how to join the call. \nIf not already on the mailing list then send an email to membership AT churchfield.org and ask to be subscribed.
URL:https://www.churchfield.org/event/agm-2022/
END:VEVENT
BEGIN:VEVENT
DTSTART;TZID=Europe/London:20221207T190000
DTEND;TZID=Europe/London:20221207T210000
DTSTAMP:20260422T122927
CREATED:20221114T090806Z
LAST-MODIFIED:20221114T090806Z
UID:563-1670439600-1670446800@www.churchfield.org
SUMMARY:CCA Quiz - December 2022
DESCRIPTION:See the email list for details and how to register your team. \nRemember – register your team first … if you turn up without registering then we will try to put you in a team if there is space
URL:https://www.churchfield.org/event/cca-quiz-december-2022/
LOCATION:L’Oriental Restaurant\, 94 Churchfield Road\, London\, W3 6DH\, United Kingdom
END:VEVENT
BEGIN:VEVENT
DTSTART;TZID=Europe/London:20220703T160000
DTEND;TZID=Europe/London:20220703T183000
DTSTAMP:20260422T122927
CREATED:20220606T102113Z
LAST-MODIFIED:20220606T102113Z
UID:551-1656864000-1656873000@www.churchfield.org
SUMMARY:CCA Summer Party 2022
DESCRIPTION:After 2 years absence because of covid restrictions\, the CCA Summer Party is back. \nWatch out for details by email
URL:https://www.churchfield.org/event/cca-summer-party-2022/
END:VEVENT
BEGIN:VEVENT
DTSTART;TZID=Europe/London:20220511T183000
DTEND;TZID=Europe/London:20220511T203000
DTSTAMP:20260422T122927
CREATED:20220428T141438Z
LAST-MODIFIED:20220428T141438Z
UID:545-1652293800-1652301000@www.churchfield.org
SUMMARY:CCA Quiz - May 2022
DESCRIPTION:First quiz since the start of the pandemic where we get together around tables rather than by video. \nWe will have fewer people than we used to have so that there can be more social distancing. \nContact Paul Talbot for details.
URL:https://www.churchfield.org/event/cca-quiz-may-2022/
END:VEVENT
BEGIN:VEVENT
DTSTART;TZID=Europe/London:20220105T193000
DTEND;TZID=Europe/London:20220105T203000
DTSTAMP:20260422T122927
CREATED:20211116T090359Z
LAST-MODIFIED:20211116T090359Z
UID:482-1641411000-1641414600@www.churchfield.org
SUMMARY:AGM 2021
DESCRIPTION:Including Cllr Peter Mason\, Ealing Council Leader \nMore details closer to the event. \n 
URL:https://www.churchfield.org/event/agm-2021/
END:VEVENT
BEGIN:VEVENT
DTSTART;TZID=Europe/London:20211219T160000
DTEND;TZID=Europe/London:20211219T180000
DTSTAMP:20260422T122927
CREATED:20211118T155024Z
LAST-MODIFIED:20211216T163521Z
UID:489-1639929600-1639936800@www.churchfield.org
SUMMARY:CANCELLED - Poets' Corner Community Garden Christmas Carols 2021
DESCRIPTION:CANCELLED \nCome along to sing or listen – plus mince pies and mulled wine.
URL:https://www.churchfield.org/event/poets-corner-community-garden-christmas-carols-2021/
LOCATION:Poets’ Corner Comunity Garden\, Junction of Chaucer Road and Myrtle Road\, Acton\, United Kingdom
END:VEVENT
BEGIN:VEVENT
DTSTART;TZID=Europe/London:20211218T200000
DTEND;TZID=Europe/London:20211218T210000
DTSTAMP:20260422T122927
CREATED:20211124T212529Z
LAST-MODIFIED:20211218T180208Z
UID:498-1639857600-1639861200@www.churchfield.org
SUMMARY:CCA Quiz
DESCRIPTION:Points may be given for wearing something festive. \nKeep an eye on the CCA email for details of how to sign-up and join in.
URL:https://www.churchfield.org/event/cca-quiz/
END:VEVENT
BEGIN:VEVENT
DTSTART;TZID=Europe/London:20211211T110000
DTEND;TZID=Europe/London:20211211T170000
DTSTAMP:20260422T122927
CREATED:20211203T092829Z
LAST-MODIFIED:20211203T092829Z
UID:501-1639220400-1639242000@www.churchfield.org
SUMMARY:North Acton Christmas Market
DESCRIPTION:North Acton Square (the new open area outside North Acton tube station) in Victoria Road from 11am to 5pm \nMore than 20 traders will come together presenting shoppers the chance to buy local crafts and gifts\, street food\, listen to live music and enjoy a great day out. Children and families can make their own traditional Christmas wreaths\, get their face painted and take part in other fun activities. \nThe event will culminate with leader of the council Peter Mason being joined by entrepreneur\, director and advocate of Acton\, Jamal Edwards MBE to switch on the Christmas lights at around 4pm. \nThe event is being heralded as a great opportunity to test the viability for a monthly market in the new square early next year. \nArranged by Ealing Council and its partner ARTification\, with sponsorship secured from City and Docklands\, Old Oak and Park Royal Development Corporation (OPDC)\, Imperial College and Aldau Development.
URL:https://www.churchfield.org/event/north-acton-christmas-market/
LOCATION:North Acton Square\, North Acton Underground Station\, Victoria Road\, London\, W3 6UP\, United Kingdom
END:VEVENT
BEGIN:VEVENT
DTSTART;TZID=Europe/London:20211125T160000
DTEND;TZID=Europe/London:20211125T183000
DTSTAMP:20260422T122927
CREATED:20211118T121100Z
LAST-MODIFIED:20211118T121100Z
UID:484-1637856000-1637865000@www.churchfield.org
SUMMARY:Christmas Lights Switch On 2021
DESCRIPTION:The Christmas lights will be switched on at an event on The Mount (the area between St Mary’s Church and Morrisons at the western end of Churchfield Road). \nThere will be a crafts stall – led by Sans Art – you can even write a letter to Santa there. \nCarol signing by local church congregations and schools \nPerformances by Elevate Arts UK \nFood and drink from the local stalls and The Station House Mobile Bar.
URL:https://www.churchfield.org/event/christmas-lights-switch-on-2021/
LOCATION:The Mount\, The Mount\, outside St Mary' Church\, Acton\, London\, United Kingdom
END:VEVENT
BEGIN:VEVENT
DTSTART;TZID=Europe/London:20211107T201500
DTEND;TZID=Europe/London:20211107T211500
DTSTAMP:20260422T122927
CREATED:20211031T181007Z
LAST-MODIFIED:20211031T181007Z
UID:468-1636316100-1636319700@www.churchfield.org
SUMMARY:Quiz - November 2021
DESCRIPTION:Our quiz is running again in November – it will be held via video like the others that we have run during the pandemic. \nPaul Talbot is the quiz master as usual. \nSee email from Paul to the CCA mailing list for details of how to connect. \nNote: this is being held on a Sunday evening
URL:https://www.churchfield.org/event/quiz-november-2021/
END:VEVENT
BEGIN:VEVENT
DTSTART;TZID=Europe/London:20210919T140000
DTEND;TZID=Europe/London:20210919T170000
DTSTAMP:20260422T122927
CREATED:20210712T140118Z
LAST-MODIFIED:20210712T140118Z
UID:455-1632060000-1632070800@www.churchfield.org
SUMMARY:Poets' Corner Community Garden Street Party
DESCRIPTION:The annual street party is scheduled for Sunday 19th September from 2pm to 5pm on Myrtle Road. \nThe council has agreed to a temporary street closure in the area. \nThe committee has asked if people can help out – for example: cake baking or having an advertising board – please get in touch with Sue Clements (you can contact us for her email address if needed).
URL:https://www.churchfield.org/event/poets-corner-community-garden-street-party/
END:VEVENT
BEGIN:VEVENT
DTSTART;TZID=Europe/London:20210914T160000
DTEND;TZID=Europe/London:20210914T180000
DTSTAMP:20260422T122927
CREATED:20210913T095218Z
LAST-MODIFIED:20210913T095521Z
UID:462-1631635200-1631642400@www.churchfield.org
SUMMARY:Reimagine The Heart of Acton
DESCRIPTION:This is your chance to have your say about improvements that could be made to the area between Morrisons and St Mary’s Church – The Mount. \nA meeting (online and in-person) has been organised for Tuesday 14th September from 4pm to 6pm. \nWHAT? \nIn an effort to grasp opportunities and tackle problems in the local area\, MutualGain\, a social capital building organisation\, is supporting the community of Acton to instigate a collective conversation about what we could do to help improve The Mount area of Acton. \nWHERE? \nThe event will have two different access points to ensure maximum attendance.\n \n\nLive round table meeting in the church next to The Mount itself\nVirtual meeting for those who can’t attend in person.\n\n  \n \nTHE QUESTIONS:\n \nWhat does the Mount area mean to you?  \nHow would you like to see it improve? \nWhat would you be willing to do to make change possible? \nLinks to find out more information: \n\nThe Facebook page – https://www.facebook.com/Acton-Re-Imagine-The-Mount-103946355346001\nThe web space – https://www.mutualgain.org/acton-reimagine-the-mount/\nThe eventbrite sign up page (this is for online only currently)- https://www.eventbrite.com/e/acton-reimagine-the-mount-tickets-168071691955
URL:https://www.churchfield.org/event/reimagine-the-heart-of-acton/
LOCATION:St Mary’s Church Hall\, St Mary's Church Hall\, 1The Mount\, London\, W3 9NW\, United Kingdom
END:VEVENT
BEGIN:VEVENT
DTSTART;VALUE=DATE:20210904
DTEND;VALUE=DATE:20210906
DTSTAMP:20260422T122927
CREATED:20210811T081042Z
LAST-MODIFIED:20210811T153103Z
UID:457-1630713600-1630886399@www.churchfield.org
SUMMARY:Acton Old Library - Open House weekend
DESCRIPTION:Acton Old Public Library and shortly to be its new cinema is taking part in Open House on 4 and 5 September 2021\, organised jointly by the Acton Arts Project with the CCA\, Acton History Group and the Mill Hill Park Residents Association.\nPlans are to have tours of the building plus a display on its history and refreshments available.\nNumbers will be limited and booking is necessary via the Open House website. \nWe are also looking for volunteers to help steward that weekend. Details are to be worked out but if you would like to volunteer to help\, send your name and email address to Maureen Colledge. \nSee the CCA mailing list for contact details.
URL:https://www.churchfield.org/event/acton-old-library-open-house-weekend/
ATTACH;FMTTYPE=image/jpeg:https://www.churchfield.org/wp-content/uploads/2021/08/B81AE989-D60E-4395-A033-C9FFDA2EC23B.jpeg
END:VEVENT
BEGIN:VEVENT
DTSTART;TZID=Europe/London:20210609T193000
DTEND;TZID=Europe/London:20210609T210000
DTSTAMP:20260422T122927
CREATED:20210511T092255Z
LAST-MODIFIED:20210511T092255Z
UID:440-1623267000-1623272400@www.churchfield.org
SUMMARY:Acton History Group - AGM and talk
DESCRIPTION:From another local community group. \nActon History Group AGM and talk by Janet Wilkes on her Memoir ‘After The Blossom’. \nThis meeting will be held by “Zoom” details will be circulated to members\n( non-members please contact info@actonhistory.co.uk ).
URL:https://www.churchfield.org/event/acton-history-group-agm-and-talk/
ORGANIZER;CN="":MAILTO:info@actonhistory.co.uk
END:VEVENT
BEGIN:VEVENT
DTSTART;TZID=Europe/London:20210526T173000
DTEND;TZID=Europe/London:20210526T183000
DTSTAMP:20260422T122927
CREATED:20210419T114850Z
LAST-MODIFIED:20210520T213236Z
UID:435-1622050200-1622053800@www.churchfield.org
SUMMARY:Putt in the Park
DESCRIPTION:Acton Park 5pm onwards. Turn up to join in a round of putting and/or to have a drink on the terrace with us. \nNOTE: change of start time from 6pm to 5pm because of when venue closes for the evening at this time of year
URL:https://www.churchfield.org/event/putt-in-the-park/
LOCATION:Putt in the Park\, Acton Park\, London\, W3 7LL\, United Kingdom
END:VEVENT
BEGIN:VEVENT
DTSTART;TZID=Europe/London:20210515T201500
DTEND;TZID=Europe/London:20210515T211500
DTSTAMP:20260422T122927
CREATED:20210419T115455Z
LAST-MODIFIED:20210419T115455Z
UID:438-1621109700-1621113300@www.churchfield.org
SUMMARY:Quiz - May 2021
DESCRIPTION:Another quiz event – and\, as we have been doing throughout the last year or so …. you join from your own home via a video link. \nSee email from CCA mailing list for link to join in.
URL:https://www.churchfield.org/event/quiz-may-2021/
END:VEVENT
END:VCALENDAR